BEGIN:VCALENDAR
VERSION:2.0
PRODID:-//Kelly Minter - ECPv6.15.15//NONSGML v1.0//EN
CALSCALE:GREGORIAN
METHOD:PUBLISH
X-ORIGINAL-URL:https://kellyminter.com
X-WR-CALDESC:Events for Kelly Minter
REFRESH-INTERVAL;VALUE=DURATION:PT1H
X-Robots-Tag:noindex
X-PUBLISHED-TTL:PT1H
BEGIN:VTIMEZONE
TZID:UTC
BEGIN:STANDARD
TZOFFSETFROM:+0000
TZOFFSETTO:+0000
TZNAME:UTC
DTSTART:20250101T000000
END:STANDARD
END:VTIMEZONE
BEGIN:VEVENT
DTSTART;TZID=UTC:20260112T180000
DTEND;TZID=UTC:20260112T203000
DTSTAMP:20260421T122141
CREATED:20251118T192432Z
LAST-MODIFIED:20251118T200248Z
UID:10000072-1768240800-1768249800@kellyminter.com
SUMMARY:Bible Study Taping on Acts
DESCRIPTION:Kelly will be teaching on the Book of Acts over four consecutive weeks at Rolling Hills Community Church in Franklin. Each night will include two teaching sessions from her upcoming Bible study\, Acts: The Story of the Church\, the Power of the Gospel\, and the Mission that Continues Today. \nYou’re welcome to attend just one session or all four!  \n\nMonday\, January 12\nMonday\, January 19\nMonday\, January 26\nMonday\, February 2\n\nThis is a FREE event\, but we do request a registration so we can accommodate everyone in the room. After your registration\, we’ll send a reminder email with all of the pertinent details closer to our time together!
URL:https://kellyminter.com/event/bible-study-taping-on-acts/
LOCATION:Rolling Hills Community Church\, 1810 Columbia Ave Ste. 100\, Franklin\, TN\, 37064
ATTACH;FMTTYPE=image/png:https://kellyminter.com/wp-content/uploads/2025/11/Event-Featured-Images-2-1.png
END:VEVENT
END:VCALENDAR