BEGIN:VCALENDAR
VERSION:2.0
PRODID:-//Kelly Minter - ECPv6.15.15//NONSGML v1.0//EN
CALSCALE:GREGORIAN
METHOD:PUBLISH
X-WR-CALNAME:Kelly Minter
X-ORIGINAL-URL:https://kellyminter.com
X-WR-CALDESC:Events for Kelly Minter
REFRESH-INTERVAL;VALUE=DURATION:PT1H
X-Robots-Tag:noindex
X-PUBLISHED-TTL:PT1H
BEGIN:VTIMEZONE
TZID:UTC
BEGIN:STANDARD
TZOFFSETFROM:+0000
TZOFFSETTO:+0000
TZNAME:UTC
DTSTART:20250101T000000
END:STANDARD
END:VTIMEZONE
BEGIN:VEVENT
DTSTART;TZID=UTC:20260212T110000
DTEND;TZID=UTC:20260319T170000
DTSTAMP:20260421T110937
CREATED:20260206T203718Z
LAST-MODIFIED:20260206T203718Z
UID:10000080-1770894000-1773939600@kellyminter.com
SUMMARY:Flourishing Faith
DESCRIPTION:The Flourishing Faith cohort is a six-week journey to help you bridge that gap. Together\, we’ll explore six life-giving habits that cultivate intimacy with God and a rich spiritual life. Through practical teaching from women who’ve experienced the blessings of these habits\, you’ll gain tools to weave prayer\, Sabbath rest\, worship\, and more into the rhythms of your everyday life. \nKelly will teach on prayer at the first session on February 12. Get 10% off your ticket by using the code KELLY10.
URL:https://kellyminter.com/event/flourishing-faith/
LOCATION:https://kellyminter.com/event/flourishing-faith/
ATTACH;FMTTYPE=image/jpeg:https://kellyminter.com/wp-content/uploads/2026/02/Cohorts-IG-Post-1.jpg
END:VEVENT
BEGIN:VEVENT
DTSTART;VALUE=DATE:20260220
DTEND;VALUE=DATE:20260222
DTSTAMP:20260421T110937
CREATED:20251111T201417Z
LAST-MODIFIED:20251207T190219Z
UID:10000071-1771545600-1771718399@kellyminter.com
SUMMARY:Providence Church | Holland\, MI
DESCRIPTION:Flourish. Grow in Grace\, Nourish in Love\, Thrive in Christ \nFriday Feb 20\, 7p-9p\nSat Feb 21\, 9a-12p \nJoin us for Flourish\, a 2-day conference for women of all ages featuring Kelly Minter at Providence Church. You will be refreshed and inspired as you join other women for dynamic worship\, engaging Bible teaching\, and sweet fellowship! \n 
URL:https://kellyminter.com/event/providence-church-holland-mi/
LOCATION:Providence Church\, 821 Ottawa Ave\, Holland\, MI
ATTACH;FMTTYPE=image/png:https://kellyminter.com/wp-content/uploads/2025/11/Event-Featured-Images-2.png
END:VEVENT
END:VCALENDAR