BEGIN:VCALENDAR
VERSION:2.0
PRODID:-//Kelly Minter - ECPv6.15.15//NONSGML v1.0//EN
CALSCALE:GREGORIAN
METHOD:PUBLISH
X-WR-CALNAME:Kelly Minter
X-ORIGINAL-URL:https://kellyminter.com
X-WR-CALDESC:Events for Kelly Minter
REFRESH-INTERVAL;VALUE=DURATION:PT1H
X-Robots-Tag:noindex
X-PUBLISHED-TTL:PT1H
BEGIN:VTIMEZONE
TZID:UTC
BEGIN:STANDARD
TZOFFSETFROM:+0000
TZOFFSETTO:+0000
TZNAME:UTC
DTSTART:20250101T000000
END:STANDARD
END:VTIMEZONE
BEGIN:VEVENT
DTSTART;VALUE=DATE:20260611
DTEND;VALUE=DATE:20260614
DTSTAMP:20260421T111023
CREATED:20250915T174816Z
LAST-MODIFIED:20251119T024639Z
UID:10000070-1781136000-1781395199@kellyminter.com
SUMMARY:The Gospel Coalition Women | Indianapolis\, IN
DESCRIPTION:Thousands of women from around the world will gather in Indianapolis to turn our eyes to Jesus. In the seven keynote sessions\, we’ll learn from the Psalms how to bring our emotions and experiences—all of life—to God\, so our lives are transformed by his.
URL:https://kellyminter.com/event/the-gospel-coalition-women-indianapolis-in/
LOCATION:Indiana Convention Center\, 100 S Capitol Ave\, Indianapolis\, IN\, 46225
ATTACH;FMTTYPE=application/pdf:https://kellyminter.com/wp-content/uploads/2025/09/Event-Featured-Images-1.pdf
END:VEVENT
END:VCALENDAR